Workbook

Sheet 使い方
A1: 運営指導 自主点検チェックリスト 障害福祉版 2026年度版（2026年10月作成）
A2: 発行：e介護With 編集部（sotte株式会社）
A3: 本表は、厚生労働省・こども家庭庁・自治体が公開する指導指針・マニュアル・確認項目及び確認文書・指導結果（2026年10月時点）をもとに編集部が整理したものです。確認項目・確認文書の正式な名称と範囲、頻度や期限の解釈は指定権者（都道府県・市区町村）によって異なる場合があります。最終判断は指定権者の通知・自主点検表によってください。
A5: 運営指導で見られる範囲は決まっている
A6: 確認項目以外は原則確認されない | B6: 令和8年6月8日に厚労省が示した「指定障害福祉サービス事業者等指導指針」と「確認項目及び確認文書」により、運営指導で見る項目と文書はサービス別に公開されています。原則として確認項目以外は確認せず、確認文書以外の提出も求められません。
A7: ただし加算は要件ごとの書類で見られる | B7: 加算の確認は人員体制などを除き、確認文書に限定せず各加算の要件に関する文書で行われます。提出文書に不備があり確認できない場合は追加提出を求められます。
A8: 運営指導は3つの指導で構成 | B8: 実施状況指導（個別支援計画の作成プロセス・生活実態・虐待や身体拘束の有無）、最低基準等運営体制指導（員数・勤務体制・非常災害・事故防止・地域連携）、報酬請求指導（基本報酬と加算・減算の算定要件）。体制と報酬はオンライン実施もあります。
A9: 頻度は3年に1回以上のサービスが拡大 | B9: 就労継続支援A型・B型、共同生活援助、児童発達支援、放課後等デイサービスは3年に1回以上。その他は指定の有効期間内に少なくとも1回以上で、指定後3年以内に初回が入ります。通知は原則として実施予定日の1か月前までに文書で届きます。
A10: 記録どうしの一致が見られる | B10: 個別支援計画は「アセスメント→原案→会議→説明・同意→交付→モニタリング」の日付の順番、報酬はサービス提供実績記録票・サービス提供記録・請求データの三者一致が確認されます。提供のない請求は架空請求に該当すると、マニュアルに明記されています。
A12: このチェックリストの使い方
A13: 1. 年度初めに、自事業所のサービス種別のシートを選び、確認文書ごとに「保管場所」と「担当者」を書き込む。
A14: 2. 利用者1人を選び、アセスメント日→会議日→同意日→交付日→提供開始日→モニタリング日→次回計画の同意日を並べ、順番と間隔（原則6か月、就労移行支援・自立訓練は3か月）を確認する。
A15: 3. 直近3か月分の実績記録票・サービス提供記録・請求データの三者一致を点検する。
A16: 4. 判定は「○＝文書で示せる」「×＝示せない・未実施」「該当なし＝自事業所に該当しない項目」。×は是正内容と完了日を備考に書く。「いいえ」を隠さず、改善の経過を説明できる状態にする。
A17: 5. 減算の自己点検（P.11）で該当する月があれば、指定権者に相談し過誤調整の手続きを進める。減算は要件を満たさない状態が生じた月（種類によってはその翌月）から適用される。
A18: 6. 自治体の自主点検表を取り寄せ、通知が来ていない段階でも年1回記入する。点検結果と是正内容を記録し、翌年の点検で再発がないかを確認する。
A20: 凡例（黄色のセルに記入します）
A21: 区分 | B21: 人員＝従業者の員数・管理者・資格／設備＝平面図・設備基準／運営＝運営基準（計画・記録・委員会・研修・届出など）／報酬＝基本報酬・加算・減算の算定要件
A22: 判定（F列プルダウン） | B22: ○＝文書で示せる／×＝示せない・未実施（備考に是正内容と完了日）／該当なし＝自事業所に該当しない項目
A23: 記入する列 | B23: F 判定・G 根拠書類の保管場所・H 担当者・I 点検日・J 備考（黄色のセル）。A～E列は編集部が整理した確認項目と確認文書です
A24: 記入例 | B24: 判定：○／保管場所：事務室キャビネット2段目「委員会」ファイル／担当者：施設長 ○○／点検日：2026/4/15／備考：次回は10月に臨時開催を追加
A26: 点検の記入欄
A27: 法人名・事業所名
A28: 事業所番号
A29: サービス種別
A30: 点検の対象期間
A31: 点検日
A32: 点検者（職名・氏名）
A33: 管理者確認（日付・氏名）
A34: 前回の運営指導日・指摘件数
A35: 次回の点検予定日
A36: 自主点検表の提出期限（指定権者の通知）
A38: シート別の集計（自動計算）
A39: シート | B39: 項目数 | C39: ○ | D39: × | E39: 該当なし | F39: 未記入 | G39: ×の割合
A40: 共通① | B40: =COUNTA(共通①!C5:C15) -> 11 | C40: =COUNTIF(共通①!F5:F15,"○") -> 0 | D40: =COUNTIF(共通①!F5:F15,"×") -> 0 | E40: =COUNTIF(共通①!F5:F15,"該当なし") -> 0 | F40: =B40-C40-D40-E40 -> 11 | G40: =IF(B40=0,0,D40/B40) -> 0
A41: 共通② | B41: =COUNTA(共通②!C5:C14) -> 10 | C41: =COUNTIF(共通②!F5:F14,"○") -> 0 | D41: =COUNTIF(共通②!F5:F14,"×") -> 0 | E41: =COUNTIF(共通②!F5:F14,"該当なし") -> 0 | F41: =B41-C41-D41-E41 -> 10 | G41: =IF(B41=0,0,D41/B41) -> 0
A42: 共通③ | B42: =COUNTA(共通③!C5:C13) -> 9 | C42: =COUNTIF(共通③!F5:F13,"○") -> 0 | D42: =COUNTIF(共通③!F5:F13,"×") -> 0 | E42: =COUNTIF(共通③!F5:F13,"該当なし") -> 0 | F42: =B42-C42-D42-E42 -> 9 | G42: =IF(B42=0,0,D42/B42) -> 0
A43: 居宅介護 | B43: =COUNTA(居宅介護!C5:C26) -> 22 | C43: =COUNTIF(居宅介護!F5:F26,"○") -> 0 | D43: =COUNTIF(居宅介護!F5:F26,"×") -> 0 | E43: =COUNTIF(居宅介護!F5:F26,"該当なし") -> 0 | F43: =B43-C43-D43-E43 -> 22 | G43: =IF(B43=0,0,D43/B43) -> 0
A44: 生活介護 | B44: =COUNTA(生活介護!C5:C29) -> 25 | C44: =COUNTIF(生活介護!F5:F29,"○") -> 0 | D44: =COUNTIF(生活介護!F5:F29,"×") -> 0 | E44: =COUNTIF(生活介護!F5:F29,"該当なし") -> 0 | F44: =B44-C44-D44-E44 -> 25 | G44: =IF(B44=0,0,D44/B44) -> 0
A45: 就労A・B | B45: =COUNTA(就労A・B!C5:C22) -> 18 | C45: =COUNTIF(就労A・B!F5:F22,"○") -> 0 | D45: =COUNTIF(就労A・B!F5:F22,"×") -> 0 | E45: =COUNTIF(就労A・B!F5:F22,"該当なし") -> 0 | F45: =B45-C45-D45-E45 -> 18 | G45: =IF(B45=0,0,D45/B45) -> 0
A46: 共同生活援助 | B46: =COUNTA(共同生活援助!C5:C23) -> 19 | C46: =COUNTIF(共同生活援助!F5:F23,"○") -> 0 | D46: =COUNTIF(共同生活援助!F5:F23,"×") -> 0 | E46: =COUNTIF(共同生活援助!F5:F23,"該当なし") -> 0 | F46: =B46-C46-D46-E46 -> 19 | G46: =IF(B46=0,0,D46/B46) -> 0
A47: 児発・放デイ | B47: =COUNTA(児発・放デイ!C5:C24) -> 20 | C47: =COUNTIF(児発・放デイ!F5:F24,"○") -> 0 | D47: =COUNTIF(児発・放デイ!F5:F24,"×") -> 0 | E47: =COUNTIF(児発・放デイ!F5:F24,"該当なし") -> 0 | F47: =B47-C47-D47-E47 -> 20 | G47: =IF(B47=0,0,D47/B47) -> 0
A48: 合計 | B48: =SUM(B40:B47) -> 134 | C48: =SUM(C40:C47) -> 0 | D48: =SUM(D40:D47) -> 0 | E48: =SUM(E40:E47) -> 0 | F48: =SUM(F40:F47) -> 134 | G48: =IF(B48=0,0,D48/B48) -> 0
A50: 出典 | B50: 厚生労働省「指定障害福祉サービス事業者等指導指針」「指定障害福祉サービス事業者等に対する集団指導・運営指導マニュアル」「確認項目及び確認文書」「監査指針」「監査マニュアル」（いずれも令和8年6月8日）、「障害福祉分野における運営指導・監査の強化について」、「令和6年度障害福祉サービス等報酬改定の概要」、こども家庭庁・厚生労働省「指定障害児通所支援事業者等の指導監査について」（最終改正 令和8年10月1日）および新旧対照表、こども家庭庁 障害児通所支援に係る報酬算定の留意事項通知、障害者総合支援法に基づく指定障害福祉サービスの事業等の人員、設備及び運営に関する基準（平成18年厚生労働省令第171号）第58条・第35条の2・第75条ほか、香川県「令和8年度運営指導の事前提出書類について」、滋賀県「障害福祉サービス事業所等の運営指導【自主点検表】」。
A51: Web版の記事 | B51: 実地指導（運営指導）とは｜流れ・確認書類・対策【2026年7月更新】 https://www.ekaigotenshoku.com/ekaigowith/2026/07/21/jicchi_shidou/
B52: 行政による運営指導(旧実地指導)とは？事前に準備すべきこと、重要なポイントを解説 https://www.ekaigotenshoku.com/ekaigowith/2025/07/22/unneishidoutaisaku/

Sheet 共通①
A1: 共通① 運営の基本書類（重要事項説明書・運営規程・契約・受給者証・届出）
A2: 多くのサービスに共通して置かれている「内容及び手続の説明及び同意」「心身の状況等の把握」「サービスの提供の記録」と、運営規程・届出の整合を点検します。
A3: 判定は F列のプルダウン（○＝文書で示せる／×＝示せない・未実施／該当なし）。黄色の列（F～J）に記入してください。共通①～③の点検結果は、該当する項目の判定欄にも転記してください。
A4: No. | B4: 区分 | C4: 確認項目 | D4: 点検のポイント | E4: 確認文書 | F4: 判定 | G4: 根拠書類の保管場所 | H4: 担当者 | I4: 点検日 | J4: 備考（是正内容・完了日）
A5: 1 | B5: 運営 | C5: 重要事項説明書の定員・営業日・営業時間・費用・苦情受付体制が運営規程と一致し、文書で交付・説明して同意を得ている（障害特性に配慮した説明） | D5: 同意の署名日がサービス開始日より前か | E5: 重要事項説明書、利用契約書、説明・交付の記録
A6: 2 | B6: 運営 | C6: 運営規程に定めるべき事項（目的・職種と員数・営業日時・費用・実施地域・緊急時対応・非常災害対策・虐待防止等）を定め、事業所に掲示し、従業者に周知している | E6: 運営規程、事業所の掲示物、従業者への周知状況が分かる書類
A7: 3 | B7: 運営 | C7: 受給者証の支給決定期間と契約支給量を請求前に確認し、契約支給量を超えて実績を付けていない | E7: 受給者証の写し、契約内容報告書
A8: 4 | B8: 運営 | C8: 心身の状況等の把握：アセスメントが面接で行われ、日付と担当者が記録に残っている | E8: アセスメント記録、ケース記録
A9: 5 | B9: 運営 | C9: サービスの提供の記録：提供の都度、日付・内容・提供時間を記録し、利用者等の確認を受けている。実績記録票と一致している | D9: 利用者の確認印・サインがない月は理由を説明できるか | E9: サービス提供記録、利用者等の確認が分かる記録、サービス提供実績記録票
A10: 6 | B10: 運営 | C10: 利用者負担額等の受領：負担額・実費（食費・材料費・日用品費等）の範囲を事前に説明し同意を得て、領収証を発行している | E10: 請求書、領収書、重要事項説明書・同意書、費用内訳が分かる書類
A11: 7 | B11: 運営 | C11: 変更届を期限内に提出し、控えを保管している（管理者・サービス管理責任者・運営規程・平面図・定員など） | D11: 期限と様式は指定権者の案内で確認 | E11: 変更届の控え、変更履歴
A12: 8 | B12: 運営 | C12: 算定している加算の体制届を提出済みで、体制等状況一覧表の区分と請求区分が一致している | E12: 体制等状況一覧表、届出書の控え
A13: 9 | B13: 運営 | C13: 障害福祉サービス等情報公表システムへ年度の報告を済ませている | D13: 未報告は情報公表未報告減算（5％、施設・居住系10％） | E13: 報告の控え、公表画面
A14: 10 | B14: 運営 | C14: 秘密保持等：従業者・管理者の秘密保持誓約書（退職後を含む）、情報提供時の個人情報同意書がある | E14: 秘密保持誓約書、就業規則等、個人情報同意書
A15: 11 | B15: 運営 | C15: 情報の提供等：パンフレット・ホームページの内容が虚偽・誇大でない | E15: パンフレット、ホームページ
C17: 集計
C18: 項目数 | D18: =COUNTA(C5:C15) -> 11
C19: ○ | D19: =COUNTIF(F5:F15,"○") -> 0
C20: × | D20: =COUNTIF(F5:F15,"×") -> 0
C21: 該当なし | D21: =COUNTIF(F5:F15,"該当なし") -> 0
C22: 未記入 | D22: =COUNTA(C5:C15)-COUNTIF(F5:F15,"○")-COUNTIF(F5:F15,"×")-COUNTIF(F5:F15,"該当なし") -> 11
C24: ※ 集計は自動計算です。×の項目は備考に是正内容と完了日を書き、翌年の点検で再発がないか確認してください。

Sheet 共通②
A1: 共通② 虐待防止・身体拘束・BCP・感染症・研修・非常災害
A2: 身体拘束は「記録・委員会・指針・研修」の4点、虐待防止は「委員会・研修・担当者」の3点。どれか1つ欠けても減算が適用されます。
A3: 判定は F列のプルダウン（○＝文書で示せる／×＝示せない・未実施／該当なし）。黄色の列（F～J）に記入してください。共通①～③の点検結果は、該当する項目の判定欄にも転記してください。
A4: No. | B4: 区分 | C4: 確認項目 | D4: 点検のポイント | E4: 確認文書 | F4: 判定 | G4: 根拠書類の保管場所 | H4: 担当者 | I4: 点検日 | J4: 備考（是正内容・完了日）
A5: 1 | B5: 運営 | C5: 虐待防止委員会を定期的に開催し、結果を従業者に周知した記録がある | D5: 周知の記録がないことは指導で問われる | E5: 委員会議事録、周知記録
A6: 2 | B6: 運営 | C6: 虐待防止研修を年1回以上実施した記録（出席者・資料）がある | E6: 研修記録、出席者名簿、研修資料
A7: 3 | B7: 運営 | C7: 虐待防止の担当者を配置している | E7: 担当者の配置が分かる書類（組織図・辞令）
A8: 4 | B8: 運営 | C8: 身体拘束等を原則行っていない。やむを得ない場合は態様・時間・心身の状況・理由を記録し、個別支援計画に位置づけている | E8: 個別支援計画、身体拘束等に関する記録
A9: 5 | B9: 運営 | C9: 身体拘束等の適正化のための委員会を定期的に開催して周知し、指針を整備し、研修を年1回以上実施している | D9: 欠けると身体拘束廃止未実施減算（訪問・通所系1％／施設・居住系10％） | E9: 委員会議事録、適正化のための指針、研修を実施したことが分かる書類
A10: 6 | B10: 運営 | C10: 業務継続計画（感染症・非常災害）を策定し、従業者に周知し、研修・訓練を定期的に実施し、見直している | D10: 未策定・未実施は業務継続計画未策定減算（訪問・通所系1％／施設・居住系3％） | E10: 業務継続計画、周知記録（配布・説明）、研修・訓練記録、見直し記録
A11: 7 | B11: 運営 | C11: 感染症・食中毒の予防とまん延防止の委員会を定期的に開催し、指針を整備し、研修・訓練を実施している（通所・入所・居住系） | D11: 頻度は解釈通知・指定権者の自主点検表で確認 | E11: 委員会議事録、感染症及び食中毒の予防及びまん延の防止のための指針、研修・訓練を実施したことが分かる書類、衛生管理に関する書類
A12: 8 | B12: 運営 | C12: 非常災害に関する具体的計画と通報・連絡体制を整え、従業者に周知し、定期的に避難等の訓練を行い、地域住民との連携を図っている（通所・入所・居住系） | E12: 非常災害時対応マニュアル（対応計画）、通報・連絡体制、消防用設備点検の記録、避難訓練の記録、消防署への届出、地域住民の訓練参加が分かる書類
A13: 9 | B13: 運営 | C13: 研修計画があり、研修の実施記録が残っている。ハラスメント防止の措置を講じている | D13: 勤務体制の確保等の確認項目 | E13: 研修計画、研修実施記録、ハラスメント防止関係書類
A14: 10 | B14: 運営 | C14: 緊急時対応マニュアルがあり、急変時に医療機関へ速やかに連絡した記録がある | E14: 緊急時対応マニュアル、ケース記録、事故等の対応記録
C16: 集計
C17: 項目数 | D17: =COUNTA(C5:C14) -> 10
C18: ○ | D18: =COUNTIF(F5:F14,"○") -> 0
C19: × | D19: =COUNTIF(F5:F14,"×") -> 0
C20: 該当なし | D20: =COUNTIF(F5:F14,"該当なし") -> 0
C21: 未記入 | D21: =COUNTA(C5:C14)-COUNTIF(F5:F14,"○")-COUNTIF(F5:F14,"×")-COUNTIF(F5:F14,"該当なし") -> 10
C23: ※ 集計は自動計算です。×の項目は備考に是正内容と完了日を書き、翌年の点検で再発がないか確認してください。

Sheet 共通③
A1: 共通③ 苦情・事故・記録の保存・請求との整合
A2: 苦情解決の確認文書は多く、受付簿だけでなく対応記録・マニュアル・行政への報告まで含みます。記録の保存は「提供した日から5年間」です。
A3: 判定は F列のプルダウン（○＝文書で示せる／×＝示せない・未実施／該当なし）。黄色の列（F～J）に記入してください。共通①～③の点検結果は、該当する項目の判定欄にも転記してください。
A4: No. | B4: 区分 | C4: 確認項目 | D4: 点検のポイント | E4: 確認文書 | F4: 判定 | G4: 根拠書類の保管場所 | H4: 担当者 | I4: 点検日 | J4: 備考（是正内容・完了日）
A5: 1 | B5: 運営 | C5: 苦情受付窓口を設置し、重要事項説明書・契約書・掲示物に苦情受付体制を記載している | E5: 重要事項説明書（苦情受付体制の記載）、契約書、事業所の掲示物
A6: 2 | B6: 運営 | C6: 苦情の受付簿と対応記録、苦情対応マニュアルがあり、都道府県等・市町村・運営適正化委員会の調査に協力し、指導・助言への改善内容を報告している | E6: 苦情受付簿、苦情対応記録、苦情対応マニュアル、改善・対応記録、行政への報告書、運営適正化委員会への対応記録
A7: 3 | B7: 運営 | C7: 事故発生時は市町村・家族等へ連絡して必要な措置をとり、事故の記録と再発防止の検討記録を残し、損害賠償を速やかに行っている | D7: 事故の市町村報告と家族への連絡が記録されているか | E7: 事故対応マニュアル、事故対応記録、再発防止の検討記録、損害賠償関係書類
A8: 4 | B8: 運営 | C8: ヒヤリハットと事故の記録を区別して残している | E8: ヒヤリハット記録、事故記録
A9: 5 | B9: 運営 | C9: 個別支援計画・サービス提供の記録・身体拘束等の記録・苦情・事故の記録などを「提供した日から5年間」保存している（指定権者の条例も確認） | D9: 運営指導では過去の利用者の記録も求められることがある | E9: 文書管理規程、保存年限一覧
A10: 6 | B10: 報酬 | C10: 直近3か月分で、実績記録票の利用日数とサービス提供記録（業務日誌・連絡帳）の出席日が一致している | D10: 欠席日に実績が入っていないか | E10: サービス提供実績記録票、業務日誌、連絡帳
A11: 7 | B11: 報酬 | C11: 提供時間の区分（放デイ・児発の時間区分、生活介護の算定時間）が送迎記録や記録の開始・終了時刻と矛盾しない | E11: 実績記録票、送迎記録、サービス提供記録
A12: 8 | B12: 報酬 | C12: 欠席時対応加算・送迎加算・延長支援加算など回数や時間で算定する加算の根拠記録がある | E12: 加算ごとの記録（連絡記録・送迎記録・延長の記録）
A13: 9 | B13: 報酬 | C13: 請求データ（国保連へ送った内容）が実績記録票と一致している | D13: 三者一致（実績記録票・提供記録・請求） | E13: 請求の控え（体制等状況一覧表を含む）、実績記録票
C15: 集計
C16: 項目数 | D16: =COUNTA(C5:C13) -> 9
C17: ○ | D17: =COUNTIF(F5:F13,"○") -> 0
C18: × | D18: =COUNTIF(F5:F13,"×") -> 0
C19: 該当なし | D19: =COUNTIF(F5:F13,"該当なし") -> 0
C20: 未記入 | D20: =COUNTA(C5:C13)-COUNTIF(F5:F13,"○")-COUNTIF(F5:F13,"×")-COUNTIF(F5:F13,"該当なし") -> 9
C22: ※ 集計は自動計算です。×の項目は備考に是正内容と完了日を書き、翌年の点検で再発がないか確認してください。

Sheet 居宅介護
A1: サービス別｜居宅介護（重度訪問介護・同行援護・行動援護も同じ構成）
A2: 障害者総合支援法に基づく指定障害福祉サービスの事業等の人員、設備及び運営に関する基準（平成18年厚生労働省令第171号）。条番号は厚労省「確認項目及び確認文書」（令和8年6月8日）の居宅介護の欄による。
A3: 判定は F列のプルダウン（○＝文書で示せる／×＝示せない・未実施／該当なし）。黄色の列（F～J）に記入してください。共通①～③の点検結果は、該当する項目の判定欄にも転記してください。
A4: No. | B4: 区分 | C4: 確認項目 | D4: 点検のポイント | E4: 確認文書 | F4: 判定 | G4: 根拠書類の保管場所 | H4: 担当者 | I4: 点検日 | J4: 備考（是正内容・完了日）
A5: 1 | B5: 人員 | C5: 従業者の員数（第5条第1項）：居宅介護従業者の員数（常勤換算）と資格 | D5: ヘルパーの資格証と雇用契約 | E5: 勤務実績表、出勤簿（タイムカード）、勤務体制一覧表、従業者の資格証
A6: 2 | B6: 人員 | C6: サービス提供責任者（第5条第2項）：員数と資格、勤務形態 | E6: サービス提供責任者の勤務形態が分かる書類、勤務実績表、出勤簿、勤務体制一覧表、資格証
A7: 3 | B7: 人員 | C7: 管理者（第6条）：専従。兼務する場合は支障がない | E7: 管理者の勤務形態が分かる書類、勤務実績表、出勤簿、勤務体制一覧表
A8: 4 | B8: 運営 | C8: 内容及び手続の説明及び同意（第9条） | D8: 共通① | E8: 重要事項説明書、利用契約書、説明・交付記録
A9: 5 | B9: 運営 | C9: 心身の状況等の把握（第16条） | E9: アセスメント記録、ケース記録
A10: 6 | B10: 運営 | C10: サービスの提供の記録（第19条） | D10: 提供時間の実績が実績記録票と一致 | E10: サービス提供記録、利用者等の確認が分かる記録
A11: 7 | B11: 運営 | C11: 居宅介護計画の作成等（第26条）：サービス提供責任者がアセスメント・作成・説明・交付し、実施状況を把握して変更している | E11: 居宅介護計画、アセスメント記録、モニタリング記録、説明・交付記録、計画変更記録
A12: 8 | B12: 運営 | C12: 身体拘束等の禁止（第35条の2）：記録、委員会、指針、研修 | D12: 共通② | E12: 個別支援計画、身体拘束等に関する記録、適正化委員会議事録、適正化指針、研修を実施したことが分かる書類
A13: 9 | B13: 運営 | C13: 受給資格の確認（第14条） | E13: 受給者証、受給者証の写し
A14: 10 | B14: 運営 | C14: 緊急時等の対応（第28条） | E14: 緊急時対応マニュアル、ケース記録、事故等の対応記録
A15: 11 | B15: 運営 | C15: 利用者負担額等の受領（第21条） | E15: 請求書、領収書、重要事項説明書
A16: 12 | B16: 運営 | C16: 情報の提供等（第37条） | E16: パンフレット、ホームページ
A17: 13 | B17: 運営 | C17: 運営規程（第31条） | D17: 共通① | E17: 運営規程、重要事項説明書、事業所の掲示物、従業者への周知状況が分かる書類
A18: 14 | B18: 運営 | C18: 勤務体制の確保等（第33条）：研修、ハラスメント防止 | E18: 従業者の勤務表、勤務形態一覧表、雇用形態が分かる書類、研修計画、研修実施記録、ハラスメント防止関係書類
A19: 15 | B19: 運営 | C19: 業務継続計画の策定等（第33条の2） | D19: 共通② | E19: 業務継続計画、周知記録、研修・訓練記録、見直し記録
A20: 16 | B20: 運営 | C20: 秘密保持等（第36条） | E20: 秘密保持誓約書、就業規則等、個人情報同意書
A21: 17 | B21: 運営 | C21: 事故発生時の対応（第40条） | D21: 共通③ | E21: 事故対応マニュアル、事故対応記録、再発防止の検討記録、損害賠償関係書類
A22: 18 | B22: 運営 | C22: 虐待の防止（第40条の2） | D22: 共通② | E22: 委員会議事録、研修を実施したことが分かる書類、担当者を配置していることが分かる書類
A23: 19 | B23: 運営 | C23: 苦情解決（第39条） | D23: 共通③ | E23: 苦情受付簿、重要事項説明書、契約書、掲示物、苦情対応記録、苦情対応マニュアル、改善・対応記録、行政への報告書、運営適正化委員会への対応記録
A24: 20 | B24: 報酬 | C24: 提供時間・サービス区分（身体介護・家事援助・通院等介助等）が居宅介護計画・サービス提供記録・実績記録票・請求で一致している | D24: 三者一致 | E24: 居宅介護計画、サービス提供記録、実績記録票、請求の控え
A25: 21 | B25: 報酬 | C25: 算定中の加算（特定事業所加算等）の要件を、要件ごとの書類で示せる | E25: 加算ごとの根拠書類、届出書の控え
A26: 22 | B26: 報酬 | C26: 人員欠如減算に該当する月（常勤換算が基準を下回った月）がないか。欠如した場合に届出をしたか | D26: 1割超の欠如は翌月、1割以内は翌々月から適用 | E26: 勤務体制一覧表、常勤換算の計算資料
C28: 集計
C29: 項目数 | D29: =COUNTA(C5:C26) -> 22
C30: ○ | D30: =COUNTIF(F5:F26,"○") -> 0
C31: × | D31: =COUNTIF(F5:F26,"×") -> 0
C32: 該当なし | D32: =COUNTIF(F5:F26,"該当なし") -> 0
C33: 未記入 | D33: =COUNTA(C5:C26)-COUNTIF(F5:F26,"○")-COUNTIF(F5:F26,"×")-COUNTIF(F5:F26,"該当なし") -> 22
C35: ※ 集計は自動計算です。×の項目は備考に是正内容と完了日を書き、翌年の点検で再発がないか確認してください。

Sheet 生活介護
A1: サービス別｜生活介護
A2: 平成18年厚生労働省令第171号。条番号は厚労省「確認項目及び確認文書」（令和8年6月8日）の生活介護の欄による（第93条による準用を含む）。
A3: 判定は F列のプルダウン（○＝文書で示せる／×＝示せない・未実施／該当なし）。黄色の列（F～J）に記入してください。共通①～③の点検結果は、該当する項目の判定欄にも転記してください。
A4: No. | B4: 区分 | C4: 確認項目 | D4: 点検のポイント | E4: 確認文書 | F4: 判定 | G4: 根拠書類の保管場所 | H4: 担当者 | I4: 点検日 | J4: 備考（是正内容・完了日）
A5: 1 | B5: 人員 | C5: 従業者の員数（第78条）：医師・看護職員・理学療法士等・生活支援員の基準員数、サービス管理責任者の配置、利用者数と平均障害支援区分の算定、単位ごとの配置、専従・常勤要件 | D5: 基本報酬の区分が平均障害支援区分で決まるため算定根拠が見られる | E5: 勤務体制一覧表、勤務実績表、資格証、常勤換算資料、利用者数算定資料、平均障害支援区分の算定資料、単位ごとの職員配置が分かる資料
A6: 2 | B6: 人員 | C6: 管理者（第51条準用）：専従。兼務する場合は支障がない | D6: サビ管の研修修了証と実務経験証明も手元に | E6: 管理者の勤務形態が分かる書類、勤務実績表、出勤簿、勤務体制一覧表
A7: 3 | B7: 設備 | C7: 設備（第81条）：訓練・作業室、相談室、洗面所、便所等の設置・広さ・備品・専用性 | E7: 平面図、設備・備品等一覧表、目視
A8: 4 | B8: 運営 | C8: 内容及び手続の説明及び同意（第9条準用） | D8: 共通① | E8: 重要事項説明書、利用契約書、説明・交付記録
A9: 5 | B9: 運営 | C9: 心身の状況等の把握（第16条準用） | E9: アセスメント記録、ケース記録
A10: 6 | B10: 運営 | C10: サービスの提供の記録（第19条準用） | E10: サービス提供記録、利用者等の確認が分かる記録
A11: 7 | B11: 運営 | C11: 生活介護計画の作成等（第58条準用）：面接アセスメント→原案→会議→説明・同意→交付→6か月に1回以上の見直し。変更時も同じ手続き | D11: 日付の順番が逆転していないか | E11: 生活介護計画、アセスメント記録、会議記録、面接記録、説明・同意・交付記録、モニタリング記録、計画変更記録
A12: 8 | B12: 運営 | C12: 身体拘束等の禁止（第35条の2準用） | D12: 共通② | E12: 個別支援計画、身体拘束等に関する記録、適正化委員会議事録、適正化指針、研修を実施したことが分かる書類
A13: 9 | B13: 運営 | C13: 緊急時等の対応（第28条準用） | E13: 緊急時対応マニュアル、ケース記録、事故等の対応記録
A14: 10 | B14: 運営 | C14: 利用者負担額等の受領（第82条）：実費（食費・材料費・日用品費等）の範囲と事前の説明・同意 | E14: 請求書、領収書、重要事項説明書・同意書、費用内訳が分かる書類
A15: 11 | B15: 運営 | C15: 定員の遵守（第69条準用）：超過時のやむを得ない事情と経過の記録 | D15: 定員超過利用減算の点検 | E15: 運営規程、利用者名簿
A16: 12 | B16: 運営 | C16: 運営規程（第89条） | D16: 共通① | E16: 運営規程、重要事項説明書、掲示物、周知状況が分かる書類
A17: 13 | B17: 運営 | C17: 勤務体制の確保等（第68条準用） | E17: 勤務表、勤務形態一覧表、雇用形態が分かる書類、研修計画、研修実施記録、ハラスメント防止関係書類
A18: 14 | B18: 運営 | C18: 非常災害対策（第70条準用） | D18: 共通② | E18: 非常災害時対応マニュアル、運営規程、通報・連絡体制、消防用設備点検の記録、避難訓練の記録、消防署への届出、地域住民の訓練参加が分かる書類
A19: 15 | B19: 運営 | C19: 受給資格の確認（第14条準用） | E19: 受給者証、受給者証の写し
A20: 16 | B20: 運営 | C20: 衛生管理等（第90条）：設備・飲用水・医療機器等の衛生管理、感染症・食中毒の委員会・指針・研修訓練 | D20: 共通② | E20: 衛生管理に関する書類、委員会議事録、指針、研修・訓練を実施したことが分かる書類
A21: 17 | B21: 運営 | C21: 業務継続計画の策定等（第33条の2準用） | D21: 共通② | E21: 業務継続計画、周知記録、研修・訓練記録、見直し記録
A22: 18 | B22: 運営 | C22: 秘密保持等（第36条準用） | E22: 秘密保持誓約書、就業規則等、個人情報同意書
A23: 19 | B23: 運営 | C23: 事故発生時の対応（第40条準用） | D23: 共通③ | E23: 事故対応マニュアル、事故対応記録、再発防止の検討記録、損害賠償関係書類
A24: 20 | B24: 運営 | C24: 虐待の防止（第40条の2準用） | D24: 共通② | E24: 委員会議事録、研修を実施したことが分かる書類、担当者を配置していることが分かる書類
A25: 21 | B25: 運営 | C25: 苦情解決（第39条準用） | D25: 共通③ | E25: 苦情受付簿、重要事項説明書、契約書、掲示物、苦情対応記録、苦情対応マニュアル、改善・対応記録、行政への報告書、運営適正化委員会への対応記録
A26: 22 | B26: 報酬 | C26: 基本報酬の区分（平均障害支援区分）の算定資料と、利用者数算定資料がある | E26: 平均障害支援区分の算定資料、利用者数算定資料
A27: 23 | B27: 報酬 | C27: 算定時間の区分が送迎記録・提供記録の開始終了時刻と矛盾しない。送迎加算・欠席時対応加算の根拠記録がある | D27: 共通③ | E27: 実績記録票、送迎記録、連絡記録
A28: 24 | B28: 報酬 | C28: 定員超過利用減算：1日の利用者が定員の150％（定員50人以下の場合）を超えた日、直近3か月の延べ人数が定員×開所日数の125％を超えた月がないか | D28: 減算率70／100 | E28: 利用者名簿、実績記録票
A29: 25 | B29: 報酬 | C29: 人員欠如減算・サービス管理責任者欠如減算・個別支援計画未作成減算に該当する月がないか | D29: P.11 減算の自己点検 | E29: 勤務体制一覧表、常勤換算資料、個別支援計画の手続き記録
C31: 集計
C32: 項目数 | D32: =COUNTA(C5:C29) -> 25
C33: ○ | D33: =COUNTIF(F5:F29,"○") -> 0
C34: × | D34: =COUNTIF(F5:F29,"×") -> 0
C35: 該当なし | D35: =COUNTIF(F5:F29,"該当なし") -> 0
C36: 未記入 | D36: =COUNTA(C5:C29)-COUNTIF(F5:F29,"○")-COUNTIF(F5:F29,"×")-COUNTIF(F5:F29,"該当なし") -> 25
C38: ※ 集計は自動計算です。×の項目は備考に是正内容と完了日を書き、翌年の点検で再発がないか確認してください。

Sheet 就労A・B
A1: サービス別｜就労継続支援A型・B型
A2: 【編集部整理】平成18年厚生労働省令第171号。本シートは基準省令と報酬の算定要件から編集部が整理した目安です。確認文書の正式名称は厚労省「確認項目及び確認文書」の就労継続支援A型・B型の欄で確認してください。運営指導の頻度は3年に1回以上（A型は新規指定の半年後を目途に初回）。
A3: 判定は F列のプルダウン（○＝文書で示せる／×＝示せない・未実施／該当なし）。黄色の列（F～J）に記入してください。共通①～③の点検結果は、該当する項目の判定欄にも転記してください。
A4: No. | B4: 区分 | C4: 確認項目 | D4: 点検のポイント | E4: 確認文書 | F4: 判定 | G4: 根拠書類の保管場所 | H4: 担当者 | I4: 点検日 | J4: 備考（是正内容・完了日）
A5: 1 | B5: 人員 | C5: 職業指導員・生活支援員の員数（常勤換算）、サービス管理責任者の配置、A型は就労支援員等の配置 | E5: 勤務体制一覧表、勤務実績表、出勤簿、資格証、常勤換算資料、利用者数算定資料
A6: 2 | B6: 人員 | C6: 管理者が専従（兼務の場合は支障がない） | E6: 管理者の勤務形態が分かる書類、勤務実績表
A7: 3 | B7: 設備 | C7: 訓練・作業室、相談室、洗面所、便所等が平面図と一致し、専用性が確保されている | E7: 平面図、設備・備品等一覧表、目視
A8: 4 | B8: 運営 | C8: 内容及び手続の説明及び同意／心身の状況等の把握／サービスの提供の記録 | D8: 共通① | E8: 重要事項説明書、利用契約書、アセスメント記録、サービス提供記録
A9: 5 | B9: 運営 | C9: 就労継続支援計画（個別支援計画）：面接→会議→説明・同意→交付→6か月に1回以上の見直し | E9: 個別支援計画、アセスメント記録、会議記録、説明・同意・交付記録、モニタリング記録
A10: 6 | B10: 運営 | C10: 身体拘束等の禁止：記録・委員会・指針・研修 | D10: 共通② | E10: 個別支援計画、身体拘束等に関する記録、委員会議事録、指針、研修記録
A11: 7 | B11: 運営 | C11: A型：利用者と雇用契約を結び、労働法規に基づく賃金を支払っている。B型：工賃を生産活動収入から支払い、工賃の目標水準を定めて利用者に説明している | D11: 工賃（賃金）の支払いは特に見られる項目 | E11: 雇用契約書（A型）、賃金・工賃台帳、工賃向上計画、工賃規程
A12: 8 | B12: 運営 | C12: 生産活動の会計を事業会計と区分し、収支が分かる | E12: 生産活動の収支が分かる書類
A13: 9 | B13: 運営 | C13: A型：スコア（経営改善・生産活動・多様な働き方等）の自己評価を行い、公表している | E13: スコア公表資料、届出の控え
A14: 10 | B14: 運営 | C14: 利用者負担額等の受領：実費の範囲と説明・同意、領収証 | E14: 請求書、領収書、重要事項説明書・同意書
A15: 11 | B15: 運営 | C15: 定員の遵守 | E15: 運営規程、利用者名簿
A16: 12 | B16: 運営 | C16: 運営規程／勤務体制の確保等（研修・ハラスメント防止）／受給資格の確認 | D16: 共通① | E16: 運営規程、掲示物、勤務表、研修計画・記録、受給者証の写し
A17: 13 | B17: 運営 | C17: 非常災害対策／衛生管理等／業務継続計画の策定等 | D17: 共通② | E17: 対応計画、避難訓練の記録、感染症委員会議事録・指針・研修訓練記録、業務継続計画
A18: 14 | B18: 運営 | C18: 秘密保持等／事故発生時の対応／虐待の防止／苦情解決 | D18: 共通②③ | E18: 秘密保持誓約書、事故対応記録、虐待防止委員会議事録・研修・担当者、苦情受付簿・対応記録
A19: 15 | B19: 報酬 | C19: 基本報酬の区分（B型は平均工賃月額、A型はスコア）の算定資料と届出がある | E19: 平均工賃月額の算定資料、スコア表、届出の控え
A20: 16 | B20: 報酬 | C20: 施設外就労・施設外支援を算定する場合、実施記録と要件を満たす | E20: 施設外就労・支援の記録、契約書
A21: 17 | B21: 報酬 | C21: 実績記録票の利用日数・提供時間が出席記録・請求と一致している。欠席時対応加算・送迎加算の根拠記録がある | D21: 共通③ | E21: 実績記録票、業務日誌、送迎記録、連絡記録
A22: 18 | B22: 報酬 | C22: 定員超過利用・人員欠如・サービス管理責任者欠如・個別支援計画未作成の減算に該当する月がないか | D22: P.11 | E22: 利用者名簿、勤務体制一覧表、個別支援計画の手続き記録
C24: 集計
C25: 項目数 | D25: =COUNTA(C5:C22) -> 18
C26: ○ | D26: =COUNTIF(F5:F22,"○") -> 0
C27: × | D27: =COUNTIF(F5:F22,"×") -> 0
C28: 該当なし | D28: =COUNTIF(F5:F22,"該当なし") -> 0
C29: 未記入 | D29: =COUNTA(C5:C22)-COUNTIF(F5:F22,"○")-COUNTIF(F5:F22,"×")-COUNTIF(F5:F22,"該当なし") -> 18
C31: ※ 集計は自動計算です。×の項目は備考に是正内容と完了日を書き、翌年の点検で再発がないか確認してください。

Sheet 共同生活援助
A1: サービス別｜共同生活援助（グループホーム）
A2: 【編集部整理】平成18年厚生労働省令第171号。本シートは基準省令と報酬の算定要件から編集部が整理した目安です。確認文書の正式名称は厚労省「確認項目及び確認文書」の共同生活援助の欄で確認してください。運営指導の頻度は3年に1回以上。施設・居住系のため身体拘束廃止未実施減算は10％、業務継続計画未策定減算は3％、情報公表未報告減算は10％です。
A3: 判定は F列のプルダウン（○＝文書で示せる／×＝示せない・未実施／該当なし）。黄色の列（F～J）に記入してください。共通①～③の点検結果は、該当する項目の判定欄にも転記してください。
A4: No. | B4: 区分 | C4: 確認項目 | D4: 点検のポイント | E4: 確認文書 | F4: 判定 | G4: 根拠書類の保管場所 | H4: 担当者 | I4: 点検日 | J4: 備考（是正内容・完了日）
A5: 1 | B5: 人員 | C5: 世話人・生活支援員の員数（常勤換算）、サービス管理責任者の配置 | E5: 勤務体制一覧表、勤務実績表、出勤簿、資格証、常勤換算資料、利用者数算定資料
A6: 2 | B6: 人員 | C6: 夜間支援体制：夜間支援従事者の勤務実績が加算の要件と一致している | D6: 特に見られる項目 | E6: 夜間の勤務実績表、夜間支援の記録
A7: 3 | B7: 人員 | C7: 管理者が専従（兼務の場合は支障がない） | E7: 管理者の勤務形態が分かる書類、勤務実績表
A8: 4 | B8: 設備 | C8: 共同生活住居・ユニット・居室が平面図と一致し、居室の定員・設備が基準を満たしている | E8: 平面図、設備・備品等一覧表、目視
A9: 5 | B9: 運営 | C9: 内容及び手続の説明及び同意／心身の状況等の把握／サービスの提供の記録 | D9: 共通① | E9: 重要事項説明書、利用契約書、アセスメント記録、サービス提供記録
A10: 6 | B10: 運営 | C10: 共同生活援助計画（個別支援計画）：面接→会議→説明・同意→交付→6か月に1回以上の見直し | E10: 個別支援計画、アセスメント記録、会議記録、説明・同意・交付記録、モニタリング記録
A11: 7 | B11: 運営 | C11: 身体拘束等の禁止：記録・委員会・指針・研修 | D11: 共通② | E11: 個別支援計画、身体拘束等に関する記録、委員会議事録、指針、研修記録
A12: 8 | B12: 運営 | C12: 入退居の記録、健康管理（協力医療機関との連携） | E12: 入退居の記録、協力医療機関との契約書、健康診断の記録
A13: 9 | B13: 運営 | C13: 利用者負担額等の受領：家賃・食材料費・光熱水費等の実費の範囲と説明・同意、領収証 | E13: 請求書、領収書、重要事項説明書・同意書、費用内訳が分かる書類
A14: 10 | B14: 運営 | C14: 預り金がある場合、管理規程と出納の記録がある | E14: 預り金管理規程、出納簿、通帳の写し
A15: 11 | B15: 運営 | C15: 定員の遵守 | E15: 運営規程、利用者名簿
A16: 12 | B16: 運営 | C16: 運営規程／勤務体制の確保等（研修・ハラスメント防止）／受給資格の確認 | D16: 共通① | E16: 運営規程、掲示物、勤務表、研修計画・記録、受給者証の写し
A17: 13 | B17: 運営 | C17: 非常災害対策：消防計画・避難訓練の記録・通報連絡体制・地域住民との連携 | D17: 特に見られる項目 | E17: 消防計画、避難訓練の記録、通報・連絡体制、消防用設備点検の記録
A18: 14 | B18: 運営 | C18: 衛生管理等／業務継続計画の策定等 | D18: 共通② | E18: 感染症委員会議事録・指針・研修訓練記録、業務継続計画・周知・研修訓練・見直し記録
A19: 15 | B19: 運営 | C19: 秘密保持等／事故発生時の対応／虐待の防止／苦情解決 | D19: 共通②③ | E19: 秘密保持誓約書、事故対応記録、虐待防止委員会議事録・研修・担当者、苦情受付簿・対応記録
A20: 16 | B20: 報酬 | C20: 夜間支援等体制加算：加算区分に応じた夜間支援従事者の配置と勤務実績が一致している | E20: 夜間の勤務実績表、体制届の控え
A21: 17 | B21: 報酬 | C21: 実績記録票（入居日数・外泊・入院）とサービス提供記録・請求が一致している | D21: 共通③ | E21: 実績記録票、サービス提供記録、請求の控え
A22: 18 | B22: 報酬 | C22: 人員欠如・サービス管理責任者欠如・個別支援計画未作成の減算に該当する月がないか | D22: P.11 | E22: 勤務体制一覧表、個別支援計画の手続き記録
A23: 19 | B23: 報酬 | C23: 身体拘束廃止未実施減算（10％）・虐待防止措置未実施減算（1％）・業務継続計画未策定減算（3％）・情報公表未報告減算（10％）に該当していないか | E23: 委員会議事録、指針、研修記録、担当者配置、BCP、情報公表の報告控え
C25: 集計
C26: 項目数 | D26: =COUNTA(C5:C23) -> 19
C27: ○ | D27: =COUNTIF(F5:F23,"○") -> 0
C28: × | D28: =COUNTIF(F5:F23,"×") -> 0
C29: 該当なし | D29: =COUNTIF(F5:F23,"該当なし") -> 0
C30: 未記入 | D30: =COUNTA(C5:C23)-COUNTIF(F5:F23,"○")-COUNTIF(F5:F23,"×")-COUNTIF(F5:F23,"該当なし") -> 19
C32: ※ 集計は自動計算です。×の項目は備考に是正内容と完了日を書き、翌年の点検で再発がないか確認してください。

Sheet 児発・放デイ
A1: サービス別｜児童発達支援・放課後等デイサービス
A2: 【編集部整理】障害児通所支援は、厚労省の確認項目及び確認文書ではなく、こども家庭庁・厚労省「指定障害児通所支援事業者等の指導監査について」（令和8年10月1日最終改正）の主眼事項・確認文書が使われます。本シートはその主眼事項（人員・設備・運営）と報酬の算定要件から編集部が整理したものです。運営指導の頻度は3年に1回以上。
A3: 判定は F列のプルダウン（○＝文書で示せる／×＝示せない・未実施／該当なし）。黄色の列（F～J）に記入してください。共通①～③の点検結果は、該当する項目の判定欄にも転記してください。
A4: No. | B4: 区分 | C4: 確認項目 | D4: 点検のポイント | E4: 確認文書 | F4: 判定 | G4: 根拠書類の保管場所 | H4: 担当者 | I4: 点検日 | J4: 備考（是正内容・完了日）
A5: 1 | B5: 人員 | C5: 従業者の員数：児童指導員・保育士の員数（利用者数に応じた配置）、機能訓練担当職員・看護職員等 | E5: 勤務実績表、出勤簿、従業者の資格証、勤務体制一覧表、利用者数の実績
A6: 2 | B6: 人員 | C6: 児童発達支援管理責任者の配置と責務（計画作成・相談援助・他の従業者への指導） | E6: 児発管の研修修了証、実務経験証明、勤務実績表、相談・援助の記録、指導の記録
A7: 3 | B7: 人員 | C7: 管理者の配置（雇用形態・勤務実績） | E7: 管理者の雇用形態が分かる書類、勤務実績表
A8: 4 | B8: 設備 | C8: 発達支援室（指導訓練室）・機械器具等が基準を満たし、専用性が確保され、平面図と一致している | E8: 平面図、設備・備品等一覧表、目視
A9: 5 | B9: 運営 | C9: 利用定員を守っている | D9: 定員超過利用減算の点検 | E9: 運営規程、利用者名簿
A10: 6 | B10: 運営 | C10: 内容及び手続の説明及び同意：重要事項説明書の交付・説明・同意 | D10: 共通① | E10: 重要事項説明書、利用契約書
A11: 7 | B11: 運営 | C11: 契約支給量の報告等：受給者証の記載と契約内容報告書 | E11: 受給者証の写し、契約内容報告書
A12: 8 | B12: 運営 | C12: 受給資格の確認／心身の状況等の把握／他の事業者等との連携／サービス提供の記録 | E12: 受給者証の写し、アセスメント記録、ケース記録、個別支援計画、サービス提供の記録
A13: 9 | B13: 運営 | C13: 通所利用者負担額の受領・管理、障害児通所給付費の額に係る通知 | E13: 請求書、領収書、重要事項説明書、通知の写し、サービス提供証明書の写し
A14: 10 | B14: 運営 | C14: 児童発達支援計画（放課後等デイサービス計画）：面接アセスメント→原案→会議→保護者への説明・同意→交付→モニタリング（6か月に1回以上の見直し） | D14: 手続きの欠落は個別支援計画未作成減算 | E14: 個別支援計画、サービス担当者会議の記録、面接記録、説明・同意・交付の記録、モニタリング記録
A15: 11 | B15: 運営 | C15: 自己評価・保護者評価をおおむね1年に1回以上実施して公表し届け出ている。支援プログラムを公表し届け出ている | D15: 未公表はいずれも15％減算（100分の85を算定） | E15: 自己評価結果・保護者評価の公表画面、支援プログラム、届出の控え
A16: 12 | B16: 運営 | C16: 安全計画を策定し、送迎・緊急時の安全確保を行っている | E16: 安全計画、送迎記録、緊急時対応マニュアル
A17: 13 | B17: 運営 | C17: 児童対象性暴力等の防止：犯罪事実確認に関する資料（こども性暴力防止法に係る帳簿等）、早期発見のための定期的な面談・アンケートの実施 | D17: 令和8年10月1日改正で主眼事項に新設 | E17: 犯罪事実確認に関する資料（帳簿等）、面談・アンケートの記録
A18: 14 | B18: 運営 | C18: 身体拘束等の禁止／虐待の防止（委員会・研修・担当者） | D18: 共通② | E18: 身体拘束等の記録、委員会議事録、指針、研修記録、担当者の配置が分かる書類
A19: 15 | B19: 運営 | C19: 運営規程／勤務体制の確保等／業務継続計画／非常災害対策／衛生管理等 | D19: 共通①② | E19: 運営規程、勤務表、研修計画・記録、業務継続計画、避難訓練の記録、感染症委員会議事録・指針
A20: 16 | B20: 運営 | C20: 秘密保持等／苦情解決／事故発生時の対応 | D20: 共通③ | E20: 秘密保持誓約書、個人情報同意書、苦情受付簿・対応記録、事故対応記録・市町村への報告
A21: 17 | B21: 報酬 | C21: 時間区分（提供時間）が送迎記録・記録の開始終了時刻と矛盾しない。欠席時対応加算・送迎加算・延長支援加算の根拠記録がある | D21: 共通③ | E21: 実績記録票、送迎記録、連絡帳、延長支援の記録
A22: 18 | B22: 報酬 | C22: 実績記録票の利用日数と出席記録・請求データが一致し、保護者の確認印がある | E22: 実績記録票、業務日誌、請求の控え
A23: 19 | B23: 報酬 | C23: 児童発達支援管理責任者欠如減算（1～4か月目70／100、5か月目以降50／100）・個別支援計画未作成減算（1～2か月目70／100、3か月目以降50／100）に該当する月がないか | D23: P.11 | E23: 勤務実績表、個別支援計画の手続き記録
A24: 20 | B24: 報酬 | C24: 定員超過利用減算（1日150％・直近3か月125％）・人員欠如減算・情報公表未報告減算（5％）に該当する月がないか | E24: 利用者名簿、勤務体制一覧表、情報公表の報告控え
C26: 集計
C27: 項目数 | D27: =COUNTA(C5:C24) -> 20
C28: ○ | D28: =COUNTIF(F5:F24,"○") -> 0
C29: × | D29: =COUNTIF(F5:F24,"×") -> 0
C30: 該当なし | D30: =COUNTIF(F5:F24,"該当なし") -> 0
C31: 未記入 | D31: =COUNTA(C5:C24)-COUNTIF(F5:F24,"○")-COUNTIF(F5:F24,"×")-COUNTIF(F5:F24,"該当なし") -> 20
C33: ※ 集計は自動計算です。×の項目は備考に是正内容と完了日を書き、翌年の点検で再発がないか確認してください。

Sheet 減算・加算・準備
A1: 減算の自己点検（9項目）／加算の点検ルール／当日までの準備と持ち物
A2: 減算は届出の有無にかかわらず、要件を満たさない状態が生じた月（減算の種類によってはその翌月）から適用され、運営指導で判明すると該当月に遡って返還指導が行われます。減算を適用せずに請求していた場合、制度の解釈誤りや単純な事務的ミスを除き不正請求と認めざるを得ない可能性があるとマニュアルは述べています。自主点検で気づいた時点で指定権者に相談し、過誤調整を進めてください。
A4: 減算の自己点検｜運営指導で遡って適用されやすい9項目
A5: 減算 | B5: 減算率（所定単位数に対して） | C5: 自己点検の問い | D5: 判定 | E5: 備考（該当月・対応）
A6: 身体拘束廃止未実施減算 | B6: 訪問・通所系1％／施設・居住系10％ | C6: 記録・委員会の定期開催と周知・指針・定期研修の4点が揃っているか
A7: 虐待防止措置未実施減算 | B7: 1％（全サービス） | C7: 委員会の定期開催と周知・定期研修・担当者の配置の3点が揃っているか
A8: 業務継続計画未策定減算 | B8: 訪問・通所系1％／施設・居住系3％ | C8: 感染症・非常災害のBCPを策定し、周知・研修・訓練を行っているか
A9: 情報公表未報告減算 | B9: 5％（施設・居住系は10％） | C9: 障害福祉サービス等情報公表システムへ年度の報告を済ませているか
A10: サービス管理責任者欠如減算 | B10: 1～4か月目70／100、5か月目以降50／100 | C10: サビ管の配置が欠けた月がないか。欠けた場合に届出をしたか
A11: 個別支援計画未作成減算 | B11: 1～2か月目70／100、3か月目以降50／100 | C11: 手続き（面接・会議・同意・交付・モニタリング）の一部が欠けた利用者がいないか
A12: 人員欠如減算 | B12: 1～2か月目70／100、3か月目以降50／100 | C12: 常勤換算が基準を下回った月がないか。1割超の欠如は翌月、1割以内は翌々月から適用
A13: 定員超過利用減算 | B13: 70／100 | C13: 通所系で1日の利用者が定員の150％（定員50人以下の場合）を超えた日や、直近3か月の延べ人数が定員×開所日数の125％を超えた月がないか
A14: 自己評価結果等未公表減算・支援プログラム未公表減算（児発・放デイ） | B14: いずれも15％（100分の85を算定） | C14: おおむね1年に1回以上の自己評価・保護者評価の公表と届出、支援プログラムの公表と届出を済ませているか
A15: 減算率は厚生労働省「令和6年度障害福祉サービス等報酬改定の概要」と、こども家庭庁の障害児通所支援の留意事項通知に基づく。身体拘束の減算は記録・委員会・指針・研修のどれか1つ、虐待防止の減算は委員会・研修・担当者のどれか1つが欠けても適用される。
A17: 加算・減算の点検ルール
A18: 点検ルール | B18: 確認文書 | C18: 備考 | D18: 判定 | E18: 担当者
A19: 算定中の加算の一覧を作り、体制等状況一覧表の区分と請求区分が一致している | B19: 体制等状況一覧表、届出書の控え
A20: 加算ごとの要件（人員配置・研修修了・算定根拠の計算・記録）を、要件ごとの書類で示せる | B20: 届出書の控え、研修修了証、算定根拠の計算表
A21: 減算は届出の有無にかかわらず、要件を満たさない状態が生じた月（種類によってはその翌月）から適用される。該当する月があれば指定権者に相談し、過誤調整を進める | B21: 減算の自己点検結果、過誤申立の控え
A22: 処遇改善加算は基本報酬と加算・減算の合計に加算率を乗じるため、減算が適用されると処遇改善加算の額も下がる。返還額は「減算分＋処遇改善加算の減少分」で見積もる | B22: 返還額の計算表
A23: 直近3か月分の実績記録票・サービス提供記録・請求データの三者一致を点検した | B23: 実績記録票、業務日誌・連絡帳、請求の控え
A25: 通知から当日までのスケジュール
A26: 時期 | B26: やること
A27: 通知到着～2週間前 | B27: 自主点検表の記入と書類の棚卸し。確認文書を1つのファイルにまとめ、ない書類を把握する。事前提出（例：香川県は実施日の10日前までに電子申請、滋賀県は当日に1部提出）の時期と方法を通知文で確認
A28: 2週間前～前日 | B28: 事前提出で指定された利用者のケースファイル一式を確認。全利用者について計画の日付の並びを点検。実績記録票は直近3か月分を目安に三者一致を確認
A29: 当日 | B29: 管理者・サービス管理責任者（児童発達支援管理責任者）・請求担当者が対応。確認文書を人員・設備・運営・報酬の順に並べ、見出しを付けたファイルで机に出せるようにする。面談方式で説明を求められる
A30: 指導後 | B30: 結果は後日文書で通知。指摘事項には期限内の改善報告書。身体拘束・虐待防止の減算に該当した場合は改善計画書と改善報告書を別に提出する自治体がある（香川県：改善計画は目安1か月以内、改善報告は運営指導日の翌月から3か月後の末日まで）
A32: 当日の持ち物（確認文書は人員・設備・運営・報酬の順に並べる）
A33: 持ち物 | B33: 保管場所 | C33: 備考 | D33: 準備済み | E33: 担当
A34: 自主点検表の控え（提出済みの場合も1部手元に）
A35: 指定通知書・運営規程・重要事項説明書・利用契約書のひな形
A36: 勤務体制一覧表、勤務実績表、出勤簿（タイムカード）、従業者の資格証、雇用契約書、兼務の辞令・組織図
A37: 全利用者の個別支援計画ファイル（アセスメント・会議記録・同意・交付・モニタリングの記録を含む）
A38: サービス提供実績記録票と日々のサービス提供記録（直近3か月分以上）、請求の控え（体制等状況一覧表を含む）
A39: 身体拘束・虐待防止の委員会議事録、指針、研修の実施記録（出席者名簿・資料）、担当者の配置が分かる書類
A40: 業務継続計画、感染症・非常災害の訓練記録、事故・ヒヤリハットの記録、苦情受付簿
A41: 平面図、消防計画と避難訓練の記録（通所・入所系）、衛生管理の記録
A42: 加算ごとの要件を示す書類（届出書の控え、研修修了証、算定根拠の計算表）
A44: 個別支援計画は「日付の順番」で見られる（利用者ごとに日付を並べる）
A45: アセスメント日→会議日→同意日→交付日→サービス提供開始日→モニタリング日→次回計画の同意日の順になっているか。モニタリングの間隔は原則6か月（就労移行支援・自立訓練は3か月）。
A46: 利用者（イニシャル） | B46: アセスメント日 | C46: 会議日 | D46: 同意日 | E46: 交付日 | F46: 提供開始日 | G46: モニタリング日 | H46: 次回同意日 | I46: 判定
